BEGIN:VCALENDAR
VERSION:2.0
PRODID:-//Kapcsolódó Nevelés Fábián Dórival - ECPv6.15.16//NONSGML v1.0//EN
CALSCALE:GREGORIAN
METHOD:PUBLISH
X-ORIGINAL-URL:https://fabiandora.hu
X-WR-CALDESC:Események Kapcsolódó Nevelés Fábián Dórival
REFRESH-INTERVAL;VALUE=DURATION:PT1H
X-Robots-Tag:noindex
X-PUBLISHED-TTL:PT1H
BEGIN:VTIMEZONE
TZID:Europe/Budapest
BEGIN:DAYLIGHT
TZOFFSETFROM:+0100
TZOFFSETTO:+0200
TZNAME:CEST
DTSTART:20250330T010000
END:DAYLIGHT
BEGIN:STANDARD
TZOFFSETFROM:+0200
TZOFFSETTO:+0100
TZNAME:CET
DTSTART:20251026T010000
END:STANDARD
BEGIN:DAYLIGHT
TZOFFSETFROM:+0100
TZOFFSETTO:+0200
TZNAME:CEST
DTSTART:20260329T010000
END:DAYLIGHT
BEGIN:STANDARD
TZOFFSETFROM:+0200
TZOFFSETTO:+0100
TZNAME:CET
DTSTART:20261025T010000
END:STANDARD
BEGIN:DAYLIGHT
TZOFFSETFROM:+0100
TZOFFSETTO:+0200
TZNAME:CEST
DTSTART:20270328T010000
END:DAYLIGHT
BEGIN:STANDARD
TZOFFSETFROM:+0200
TZOFFSETTO:+0100
TZNAME:CET
DTSTART:20271031T010000
END:STANDARD
END:VTIMEZONE
BEGIN:VEVENT
DTSTART;TZID=Europe/Budapest:20260226T100000
DTEND;TZID=Europe/Budapest:20260226T113000
DTSTAMP:20260423T223338
CREATED:20260128T151933Z
LAST-MODIFIED:20260205T113925Z
UID:4653-1772100000-1772105400@fabiandora.hu
SUMMARY:Miért nem fogad szót a gyerekem?
DESCRIPTION:Esti rutin\, reggeli rutin\, házi feladat\, testvérügyek. Gyere már\, ne bántsd már\, csináld már! Már tényleg mindent próbáltál\, de nem működik semmi. \n  \nSzépen kérted. Elmagyaráztad\, ezerszer. Hiszen nem akarsz autoriter lenni. Azt mondták partnerként kell kezelni a gyereket. Igyekeztél következetes lenni\, mert állítólag az is fontos. Hiába. Jön a könyörgés\, majd a fenyegetés. És végül a kiabálás\, büntetés… \n  \nUgyanazok a körök újra és újra… És ugyanazok az érzések és kérdések\, amikre nem találsz megnyugtató válaszokat: \n  \n„Miért nem hallgat rám?”\n„Mit rontok el?”\n„Miért kell mindent százszor mondani?”\n„Miért lesz mindenből vita\, sírás\, hiszti?”\n„Miért csak akkor történik valami\, amikor már kiabálok? Tényleg ezt akarja?” \n  \nNem vagy egyedül\, ezek a világon sokszázezer család mindennapjai\, hasonló érzésekkel és gondolatokkal. Tudom\, hogy jó lenne valami trükk\, ami végre beválik. De ezen az előadáson elsősorban nem újabb nevelési tippeket fogsz kapni. \n  \nHanem meg fogod érteni\, hogy: \n– mi történik valójában a gyereked idegrendszerében\, amikor „nem fogad szót”\n– mi történik a te idegrendszeredben ilyenkor\n– miért nem működik stressz alatt az\, amit egyébként „tudsz”\n– és miért nem a következetesség\, vagy a kommunikációs trükkök hozzák a valódi megoldást \n  \nLesznek azért konkrét kapaszkodók is. Megmutatom\, hogyan tudsz hatékonyan határt szabni – egyezkedés\, hatalmi harcok\, kiabálás nélkül. Mondok pár saját példát\, hogyan működik a Kapcsolódó Nevelés szellemiségében a határszabás – kicsiknél\, és kamaszoknál is. \n  \nDe őszinte leszek: az előadás meghallgatása nem fog hosszútávú megoldást hozni. Nagyon kevés szülő képes egyetlen előadás\, vagy poszt alapján tartósan másképp csinálni. \n  \nNem azért\, mert nem akarjuk eléggé\, vagy ne lennénk elég jó szülők. Hanem mert ezt a szemléletváltást\, és a régi minták átírását nagyon nehéz egyedül\, támogatás nélkül megcsinálni. \n  \nAz előadás fő célja az\, hogy ráérezz arra\, miért nem működött eddig\, és miért nem veled van a baj. És nem is a gyerekeddel. Ez nagyon fontos első lépés ahhoz\, hogy ne ragadj bele azokba a mintákba\, amik már eddig sem működtek\, de egyelőre ritkán megy másképp. \nNeked szól az előadás\, ha:\n– úgy érzed\, hogy már mindent kipróbáltál\, de nem találod a hatékony és önazonos megoldásokat\n– gyakran elfogy a türelmed\, pedig nem ilyen szülő szeretnél lenni\n– érzed\, hogy a „viselkedésprobléma” mögött valami mélyebb nehézség van\n– szeretnél kevesebb harcot\, több együttműködést\, több nyugalmat \nMiről lesz szó?\n– Mik a reális elvárások az együttműködésre vonatkozóan? (Spoiler: nem fog mindig szót fogadni\, akármilyen jól is csinálod!)\n– Miért nem működik a jutalmazás–büntetés logika hosszú távon?\n– Mi az\, amitől a gyereked képes lesz együttműködni?\n– És mi az\, ami ehhez neked kell – belül? \nA végén pedig mesélek egy olyan útról\, amit nem egyedül kell végigjárni. \nEgy folyamatról\, amiben:\n– nem csak érted\,\n– hanem át is tudod huzalozni a működésedet\,\n– támogatással\, gyakorlással\, közösségben. \nHa érzed\, hogy megszólít\, lehetőséged lesz csatlakozni.\nHa nem\, akkor is kapsz másfél órát\, ami segít\, hogy más szemszögből lásd\, ami otthon történik. \nAz előadás ingyenes\, de regisztrációhoz kötött\, amit a Jövök! gombra kattintva az email címed megadásával tudsz megtenni. \nFelvétel most nem készül\, mert akkor fogsz tudni igazán profitálni az előadásból\, ha élőben ott vagy. \n  \nKi vagyok?\n \nFábián Dóri vagyok\, pszichológus\, Kapcsolódó Nevelés oktató. 3 gyerekem van\, akik jelenleg (majdnem) 16\, 14 és 9 évesek. Az elmúlt 10 évben rengeteg tapasztalatot gyűjtöttem össze a különböző nehéz helyzetek megoldásában a Kapcsolódó Nevelés szemléletmódjával és eszközeivel. Bővebben…
URL:https://fabiandora.hu/event/miert-nem-fogad-szot-a-gyerekem/
LOCATION:Zoom\, Magyarország
CATEGORIES:ingyenes
ATTACH;FMTTYPE=image/png:https://fabiandora.hu/wp-content/uploads/2026/01/nemfogadingyenes.png
END:VEVENT
END:VCALENDAR