BEGIN:VCALENDAR
VERSION:2.0
PRODID:-//Kapcsolódó Nevelés Fábián Dórival - ECPv6.15.16//NONSGML v1.0//EN
CALSCALE:GREGORIAN
METHOD:PUBLISH
X-ORIGINAL-URL:https://fabiandora.hu
X-WR-CALDESC:Események Kapcsolódó Nevelés Fábián Dórival
REFRESH-INTERVAL;VALUE=DURATION:PT1H
X-Robots-Tag:noindex
X-PUBLISHED-TTL:PT1H
BEGIN:VTIMEZONE
TZID:Europe/Budapest
BEGIN:DAYLIGHT
TZOFFSETFROM:+0100
TZOFFSETTO:+0200
TZNAME:CEST
DTSTART:20240331T010000
END:DAYLIGHT
BEGIN:STANDARD
TZOFFSETFROM:+0200
TZOFFSETTO:+0100
TZNAME:CET
DTSTART:20241027T010000
END:STANDARD
BEGIN:DAYLIGHT
TZOFFSETFROM:+0100
TZOFFSETTO:+0200
TZNAME:CEST
DTSTART:20250330T010000
END:DAYLIGHT
BEGIN:STANDARD
TZOFFSETFROM:+0200
TZOFFSETTO:+0100
TZNAME:CET
DTSTART:20251026T010000
END:STANDARD
BEGIN:DAYLIGHT
TZOFFSETFROM:+0100
TZOFFSETTO:+0200
TZNAME:CEST
DTSTART:20260329T010000
END:DAYLIGHT
BEGIN:STANDARD
TZOFFSETFROM:+0200
TZOFFSETTO:+0100
TZNAME:CET
DTSTART:20261025T010000
END:STANDARD
BEGIN:DAYLIGHT
TZOFFSETFROM:+0100
TZOFFSETTO:+0200
TZNAME:CEST
DTSTART:20270328T010000
END:DAYLIGHT
BEGIN:STANDARD
TZOFFSETFROM:+0200
TZOFFSETTO:+0100
TZNAME:CET
DTSTART:20271031T010000
END:STANDARD
END:VTIMEZONE
BEGIN:VEVENT
DTSTART;TZID=Europe/Budapest:20260226T100000
DTEND;TZID=Europe/Budapest:20260226T113000
DTSTAMP:20260423T195027
CREATED:20260128T151933Z
LAST-MODIFIED:20260205T113925Z
UID:4653-1772100000-1772105400@fabiandora.hu
SUMMARY:Miért nem fogad szót a gyerekem?
DESCRIPTION:Esti rutin\, reggeli rutin\, házi feladat\, testvérügyek. Gyere már\, ne bántsd már\, csináld már! Már tényleg mindent próbáltál\, de nem működik semmi. \n  \nSzépen kérted. Elmagyaráztad\, ezerszer. Hiszen nem akarsz autoriter lenni. Azt mondták partnerként kell kezelni a gyereket. Igyekeztél következetes lenni\, mert állítólag az is fontos. Hiába. Jön a könyörgés\, majd a fenyegetés. És végül a kiabálás\, büntetés… \n  \nUgyanazok a körök újra és újra… És ugyanazok az érzések és kérdések\, amikre nem találsz megnyugtató válaszokat: \n  \n„Miért nem hallgat rám?”\n„Mit rontok el?”\n„Miért kell mindent százszor mondani?”\n„Miért lesz mindenből vita\, sírás\, hiszti?”\n„Miért csak akkor történik valami\, amikor már kiabálok? Tényleg ezt akarja?” \n  \nNem vagy egyedül\, ezek a világon sokszázezer család mindennapjai\, hasonló érzésekkel és gondolatokkal. Tudom\, hogy jó lenne valami trükk\, ami végre beválik. De ezen az előadáson elsősorban nem újabb nevelési tippeket fogsz kapni. \n  \nHanem meg fogod érteni\, hogy: \n– mi történik valójában a gyereked idegrendszerében\, amikor „nem fogad szót”\n– mi történik a te idegrendszeredben ilyenkor\n– miért nem működik stressz alatt az\, amit egyébként „tudsz”\n– és miért nem a következetesség\, vagy a kommunikációs trükkök hozzák a valódi megoldást \n  \nLesznek azért konkrét kapaszkodók is. Megmutatom\, hogyan tudsz hatékonyan határt szabni – egyezkedés\, hatalmi harcok\, kiabálás nélkül. Mondok pár saját példát\, hogyan működik a Kapcsolódó Nevelés szellemiségében a határszabás – kicsiknél\, és kamaszoknál is. \n  \nDe őszinte leszek: az előadás meghallgatása nem fog hosszútávú megoldást hozni. Nagyon kevés szülő képes egyetlen előadás\, vagy poszt alapján tartósan másképp csinálni. \n  \nNem azért\, mert nem akarjuk eléggé\, vagy ne lennénk elég jó szülők. Hanem mert ezt a szemléletváltást\, és a régi minták átírását nagyon nehéz egyedül\, támogatás nélkül megcsinálni. \n  \nAz előadás fő célja az\, hogy ráérezz arra\, miért nem működött eddig\, és miért nem veled van a baj. És nem is a gyerekeddel. Ez nagyon fontos első lépés ahhoz\, hogy ne ragadj bele azokba a mintákba\, amik már eddig sem működtek\, de egyelőre ritkán megy másképp. \nNeked szól az előadás\, ha:\n– úgy érzed\, hogy már mindent kipróbáltál\, de nem találod a hatékony és önazonos megoldásokat\n– gyakran elfogy a türelmed\, pedig nem ilyen szülő szeretnél lenni\n– érzed\, hogy a „viselkedésprobléma” mögött valami mélyebb nehézség van\n– szeretnél kevesebb harcot\, több együttműködést\, több nyugalmat \nMiről lesz szó?\n– Mik a reális elvárások az együttműködésre vonatkozóan? (Spoiler: nem fog mindig szót fogadni\, akármilyen jól is csinálod!)\n– Miért nem működik a jutalmazás–büntetés logika hosszú távon?\n– Mi az\, amitől a gyereked képes lesz együttműködni?\n– És mi az\, ami ehhez neked kell – belül? \nA végén pedig mesélek egy olyan útról\, amit nem egyedül kell végigjárni. \nEgy folyamatról\, amiben:\n– nem csak érted\,\n– hanem át is tudod huzalozni a működésedet\,\n– támogatással\, gyakorlással\, közösségben. \nHa érzed\, hogy megszólít\, lehetőséged lesz csatlakozni.\nHa nem\, akkor is kapsz másfél órát\, ami segít\, hogy más szemszögből lásd\, ami otthon történik. \nAz előadás ingyenes\, de regisztrációhoz kötött\, amit a Jövök! gombra kattintva az email címed megadásával tudsz megtenni. \nFelvétel most nem készül\, mert akkor fogsz tudni igazán profitálni az előadásból\, ha élőben ott vagy. \n  \nKi vagyok?\n \nFábián Dóri vagyok\, pszichológus\, Kapcsolódó Nevelés oktató. 3 gyerekem van\, akik jelenleg (majdnem) 16\, 14 és 9 évesek. Az elmúlt 10 évben rengeteg tapasztalatot gyűjtöttem össze a különböző nehéz helyzetek megoldásában a Kapcsolódó Nevelés szemléletmódjával és eszközeivel. Bővebben…
URL:https://fabiandora.hu/event/miert-nem-fogad-szot-a-gyerekem/
LOCATION:Zoom\, Magyarország
CATEGORIES:ingyenes
ATTACH;FMTTYPE=image/png:https://fabiandora.hu/wp-content/uploads/2026/01/nemfogadingyenes.png
END:VEVENT
BEGIN:VEVENT
DTSTART;TZID=Europe/Budapest:20251216T100000
DTEND;TZID=Europe/Budapest:20251216T113000
DTSTAMP:20260423T195027
CREATED:20251201T205249Z
LAST-MODIFIED:20251209T145904Z
UID:4524-1765879200-1765884600@fabiandora.hu
SUMMARY:Szelídítsük meg a hisztit!
DESCRIPTION:Sokunknak ismerősek az alábbi helyzetek. Gyermekünk \n  \n\nföldhöz vágja magát a boltban\, mert nem vesszük meg neki a csillámpónit\, vagy\nkiborul az ebédnél\, mert összekevertük a krumplit a hússal\,\nvagy éppen azért hisztizik\, mert nem engedjük\, hogy pizsamában menjen a játszótérre\n\n  \n– mi pedig tehetetlenül állunk és nem értjük\, hogy mi történik. \n  \nHa próbálunk utánaolvasni a jelenségnek\, sok helyen olvashatjuk\, hogy először meg kell állapítanunk\, hogy melyikfajta hisztiről van szó. \n  \nVan az a fajta\, amikor a gyerek manipulálni akar minket. A hisztivel szeretné kicsikarni belőlünk\, hogy az történjen\, amit ő szeretne. (Spoiler: nincs ilyen.) A tanács némileg jobb esetben az\, hogy hagyjuk figyelmen kívül\, rosszabb esetben pedig az\, hogy büntessük meg. \n  \nÉs  sok cikk szerint van egy másik fajta hiszti\, amikor a gyerekünk frusztrálódik\, túltelítődik\, túlfárad\, leesett a vércukra\, stb. Ilyenkor valahogy meg kellene nyugtatnunk\, vagy megoldani a helyzetet\, például gyorsan enni adni neki\, ha éhség miatt borult ki. \n  \nJó\, de honnan tudjuk\, hogy éppen melyikről van szó? \n  \nÉs mi van\, ha hiába követjük a tanácsokat\, a hiszti egyszerűen nem múlik? Mondjuk következetesen kitartunk\, nem vesszük meg a csokit\, amiért hisztizik\, otthon pedig teljesítjük az előre megbeszélt következményt\, vagyis aznap egyáltalán nincs semmilyen édesség. Mégis\, minden egyes boltba menésnél megint ugyanaz van. \n  \nÉs mi van\, ha vigasztalnánk\, nyugtatnánk\, ölelnék\, de hiába? Nem engedi\, vagy ha igen\, ezzel sem tudunk hosszú távú eredményt elérni. \n  \nBonyolítja a képet\, hogy ha a gyerekünk neurodivergens\, akkor lehet\, hogy más megközelítésre lesz szükségünk\, mint egy átlagos gyereknél. \n  \nSzeretettel várlak erre az ingyenes online előadásra\, ha: \n– már sok mindent próbáltál\, de semmi nem vált be igazán \n– elvben tudod\, hogy mit kéne tenni\, de te is elárasztódsz ezekben a helyzetekben\, és elveszíted a türelmedet \n– szeretnéd jobban érteni\, hogy mi is történik ilyenkor a gyerekeddel \n  \nAkkor is érdemes jönnöd\, ha a gyereked már nagyobb\, és nem a klasszikus hisztiket „produkálja”\, hanem puffog\, beszól\, ajtót csapkod. \n  \nEzen az előadáson kibogozzuk\, hogy van-e egyáltalán többféle hiszti. Személyes példáimon keresztül mutatom be\, hogy hogyan lehet ezeket a helyzeteket a leghatékonyabban kezelni. Büntetés és kiabálás nélkül\, szeretetteljesen\, úgy\, hogy még a kapcsolatunk is erősödjön. (Spoiler: nem fog mindig sikerülni\, de ez nem is baj!) \n  \nMegtudhatod\, hogy mi zajlik ilyenkor a gyerekek testében és agyában\, miért történik ez velük. Azt is megtudhatod\, hogy velünk mi történik\, amikor egy hisztit nézünk és hallgatunk\, és miért olyan nehéz ez. Megismerhetsz egy olyan eszközt\, aminek a segítségével hosszútávon türelmesebb tudsz lenni. \n  \nAz előadás ingyenes\, de regisztrációhoz kötött\, amit lejjebb a Jövök! gombra kattintva tudsz megtenni. \nA csatlakozáshoz szükséges Zoom linket a program előtti napon küldöm. \nAz előadásról felvétel készül\, amit később meg lehet majd vásárolni. \n  \nKi vagyok? \n \nFábián Dóri vagyok\, pszichológus\, Kapcsolódó Nevelés oktató\, 3 gyerek anyukája\, akik jelenleg 15\, 13 és 8 évesek. \nTöbb\, mint 10 éve alkalmazom a családomban a Kapcsolódó Nevelés eszközeit\, rengeteg tapasztalatom van a különféle nehéz gyereknevelési helyzetek megoldásában. Bővebben itt olvashatsz rólam. \n 
URL:https://fabiandora.hu/event/szeliditsuk-meg-a-hisztit/
LOCATION:Zoom\, Magyarország
ATTACH;FMTTYPE=image/png:https://fabiandora.hu/wp-content/uploads/2025/12/hisztiszelidites.png
END:VEVENT
BEGIN:VEVENT
DTSTART;TZID=Europe/Budapest:20251003T100000
DTEND;TZID=Europe/Budapest:20251003T113000
DTSTAMP:20260423T195027
CREATED:20250918T155621Z
LAST-MODIFIED:20250918T155621Z
UID:4372-1759485600-1759491000@fabiandora.hu
SUMMARY:Mitől lesznek jó testvérek?
DESCRIPTION:Az egyik legnagyobb trigger\, amire szülőként azonnal ugrunk\, amikor a testvérek bántják egymást. Akár fizikailag\, akár piszkálódnak\, csúfolódnak egymással. \nNem egészen így képzeltük\, amikor több gyerek vállalására adtuk a fejünket. Tudtuk\, hogy nehéz lesz\, hiszen a testvérféltékenység mára már elterjedt fogalom\, sejtettük\, hogy nem ússzuk meg\, de azt nem gondoltuk\, hogy ennyire nehéz lesz. Hiába próbáljuk szép szóval\, vagy szigorúbban\, hiába próbálunk igazságot tenni\, szabályokat felállítani\, a konfliktusoknak nem akar vége szakadni. \nA jó hír az\, hogy a testvérek valójában minden körülmények között szeretik egymást\, és mi szülők\, képesek vagyunk segíteni nekik\, hogy ez a viselkedésükben is egyre többször nyilvánuljon meg! \nA Kapcsolódó Nevelés eszközei segítenek\, hogy a testvérek jobban kijöjjenek egymással\, mi pedig egyre gyakrabban dőlhessünk hátra elégedetten\, hogy jó munkát végeztünk\, szépen eljátszanak egymással\, és reménnyel telik meg a szívünk\, hogy felnőtt korukban számíthatnak majd egymásra. Hiszen talán ez az az a cél\, amit a legtöbben a legfontosabbnak tartunk. \nAz előadáson ilyen és hasonló kérdésekre kapsz választ:\n– akkor miért bántják folyton egymást?\n– miért kell mindig az\, ami a másiknak van?\n– miért ébreszti fel direkt a testvérét\, amikor végre elaludt és végre csak vele lehetnék?\n– mi az ideális korkülönbség? Hogyan segítsük a testvérek jó kapcsolatát\, ha kicsi a korkülönbség\, vagy ha éppen nagy? \n\nTippeket kapsz ahhoz\, hogy:\n– elsimítsd a konfliktusokat és idővel egyre kevesebb legyen belőlük\n– mindegyik gyerekeddel egyformán örömteli\, szeretetteljes kapcsolatot tudj kialakítani\n– a nyugalom szigete tudj maradni\, akkor is\, amikor eluralkodik a káosz \nElőadók: \n \nFábián Dóri\, pszichológus\, Kapcsolódó Nevelés oktató\, 3 gyerek anyukája \n \nBarna Kisanna\, pszichológus\, Kapcsolódó Nevelés oktató\, 2 gyerek anyukája \nMindketten gyakorló szülőként nap mint nap alkalmazzuk a testvérkonfliktusok elsimítására\, és a testvérkapcsolatok erősítésére azokat az eszközöket\, amikről beszélni fogunk – úgyhogy saját történeteket is hozunk majd! \nAz előadás ingyenes\, és regisztrációhoz kötött. Jelentkezni a JÖVÖK! gombra kattintva\, a neved és e-mail címed megadásával tudsz. A csatlakozáshoz szükséges Zoom linket a program előtti napon küldjük. \nA programról felvétel készül\, amit később megvásárolhatsz. \nSzeretettel várunk! <3
URL:https://fabiandora.hu/event/mitol-lesznek-jo-testverek/
LOCATION:Zoom\, Magyarország
ATTACH;FMTTYPE=image/png:https://fabiandora.hu/wp-content/uploads/2025/09/tesosea.png
END:VEVENT
BEGIN:VEVENT
DTSTART;TZID=Europe/Budapest:20250813T190000
DTEND;TZID=Europe/Budapest:20250813T200000
DTSTAMP:20260423T195027
CREATED:20250517T112116Z
LAST-MODIFIED:20250804T121552Z
UID:3959-1755111600-1755115200@fabiandora.hu
SUMMARY:Segítség\, nem fogad szót!
DESCRIPTION:Kezdem a rossz hírrel: ha azt szeretnénk\, hogy a gyerekünk mindig szót fogadjon\, balhé nélkül megtegye\, amit kérünk\, arra egyetlen eszközünk van\, ha félelemben tartjuk. Ha folyton attól kell félnie\, hogy elveszíti a szeretetünket\, vagy bántani fogjuk. (És még így sincs arra garancia\, hogy nem fog inkább minden erejével lázadni a túlzott hatalmunk ellen.) \nNyilvánvalóan ezt egyikünk sem szeretné\, különösen ha mi magunk gyerekként megtapasztaltuk ezt a bánásmódot. \nA mai szülőség legnagyobb nehézsége éppen ez: nem akarunk túl szigorúak\, tekintélyelvűek lenni\, de az igencsak kényelmes lenne\, ha a gyerekünk mindig együttműködő lenne. Lehetséges ez a kettő egyszerre? Valószínűleg nem. \nAz viszont igen\, hogy a gyerekünk sokkal többször legyen együttműködő\, és mi sokkal türelmesebbek tudjunk maradni\, amikor nem az. \nEnnek az az egyik kulcsa\, hogy meglássuk a viselkedése mögötti okokat. Nem arról van szó\, hogy 5 évesen még dackorszakos\, 6 évesen meg már kiskamasz\, vagy hogy állandóan a határokat akarná feszegetni\, vagy minket idegesíteni. Ha értjük\, hogy miben van\, amikor ellenáll\, akkor sokkal könnyebben meg tudjuk oldani a nehéz helyzeteket. \nA másik\, hogy a saját reakcióinkat is jobban értsük\, és legyen támogatásunk ahhoz\, hogy változtatni tudjunk rajtuk. Az elhatározás\, hogy holnaptól nem kiabálok\, gyakran kevés\, de kitartó\, tudatos munkával képesek vagyunk a régi berögződéseket átírni. \nA Kapcsolódó Nevelés szemlélete segít megérteni a gyerek\, és a szülők viselkedése\, reakciói mögött rejlő okokat\, és 5 olyan eszközt kínál\, amik rendszerben alkalmazva a családi életet gördülékenyebbé\, és harmonikusabbá\, örömtelibbé teszik. \nEzek közül főleg a Határszabásról fogok beszélni ezen az előadáson. Hogyan lehet a gyerekünket szigorkodás\, fenyegetőzés\, kiabálás nélkül mégis „rávenni” arra\, amit ő nem szeretne\, amihez nincs kedve\, vagy megakadályozni azt\, amit szerintünk nem kellene csinálnia. \nEzt az eszközt az előadás után akár azonnal ki is próbálhatod. Nem biztos\, hogy elsőre menni fog\, de amikor igen\, azonnal érezni fogod a hatását. \nA program ingyenes\, de regisztrációhoz kötött\, amit lentebb a JÖVÖK gombra kattintva tudsz megtenni. \nMiért ingyenes ez az előadás?\n– mert hiszek abban\, hogy minden szülőnek jár a hiteles\, használható gyereknevelési infó és támogatás anyagi helyzettől függetlenül\n– mert így kockázatmentesen bepillanthatsz a Kapcsolódó Nevelés szellemiségébe\, eldöntheted\, hogy ez olyasmi-e\, amibe érdemes még több energiát fektetned\n– ha már többször voltál nálam\, lehetőséged van a tudásodat frissíteni \nA regisztrációkor megadott e-mail címedre 3 levelet fogok írni: \n– egy automatikus visszaigazoló levelet\, amiben találsz egy űrlapot\, ahova előre beírhatod a kérdéseidet\n– egyet az esemény előtti napon\, amiben megtalálod majd a csatlakozáshoz szükséges Zoom linket\n– egyet az esemény utáni napon\, amiben a témához kapcsolódó cikkeket\, programajánlókat találsz\, illetve megvásárolhatod az előadás felvételét\, ha szeretnéd\n– NEM foglak heteken keresztül olyan levelekkel bombázni\, hogy csatlakozz a mentorprogramomhoz – nincs ilyenem 😉\n– de érdemes majd feliratkoznod a hírlevelemre\, a rendszeres olvasóimtól gyakran kapok visszajelzést\, hogy mennyire hasznosak\, inspirálóak a tartalmaim \nAz előadásról felvétel készül\, ami utólag megvásárolható – ez azért nincs ingyen\, mert arra szeretnélek ösztönözni\, hogy gyere el\, vegyél részt élőben. Tedd fel a kérdéseidet\, hogy azonnali megnyugtató válaszokat kapj. Az a tapasztalat\, hogy a felvételek gyakran akkor sem nézzük meg\, ha fizettünk érte. 😉 \nRólam: Fábián Dóri vagyok\, pszichológus\, Kapcsolódó Nevelés oktató\, 3 gyerek anyukája\, akik jelenleg 8\, 13 és 15 évesek. Több\, mint 10 éve alkalmazom a családomban a Kapcsolódó Nevelés eszközeit\, rengeteg tapasztalatom van a különféle nehéz gyereknevelési helyzetek megoldásában. Bővebben… \nIde írhatsz: kapcsolat@fabiandora.hu \nSzeretettel várlak! <3 \n \n 
URL:https://fabiandora.hu/event/segitseg-nem-fogad-szot/
LOCATION:Zoom\, Magyarország
END:VEVENT
BEGIN:VEVENT
DTSTART;TZID=Europe/Budapest:20250709T190000
DTEND;TZID=Europe/Budapest:20250709T203000
DTSTAMP:20260423T195027
CREATED:20250630T065050Z
LAST-MODIFIED:20250701T165511Z
UID:4106-1752087600-1752093000@fabiandora.hu
SUMMARY:Fenntartható vakáció - képernyővel\, vagy anélkül?
DESCRIPTION:Fenntartható vakáció? Képernyőidővel vagy anélkül? – Ingyenes nyári webinár + szülői kihívás\nHelló szülők! Itt a nyári szünet\, és vele együtt az örök kérdés: mit kezdjünk a képernyőkkel\, meg a gyerekeinkkel? \nNyugi\, nem vagy egyedül. Mi sem vagyunk tökéletesek\, de összesen 8 gyerekkel a hátunk mögött már tapasztaltunk ezt-azt. \n\n\n\nEzért hívunk egy ingyenes 90 perces webinárra július 9-én:Pszichológus és digitális tréner anyák\, szakértők vezetésével– beszélgetünk a képernyők szerepéről\,– a pszichológiai szükségletekről\,– a videójátékok vonzó világáról\, – a nyári szabadidő és képernyőidő kapcsolatáról\,– a cyberbullying megelőzéséről \nés arról\, hogyan építhetsz ki biztonságos\, kapcsolódó légkört otthon. \n\nNem lesz ujjmutogatás\, nem lesz „rossz szülő” bélyeg!\nA kapcsolódó nevelés eszköztárával dolgozunk\, ami nem parancsol\, hanem kapcsolódik.\nAmi érti a düh mögötti fáradtságot\, és ami figyelemre tanít\, megértésre és nem fentarthatatlan tiltásra és ellenőrzésre. \nMinden\, amit hozunk\, idegtudományi alapokon nyugszik\, segít szabályozni\, egyensúlyozni\, de közérthetően\, szülőbarát nyelven. \nA webinár után jön a 7 napos kihívás\, ahol cél a kiegyensúlyozottabb családi képernyőhasználat:\n– reggeli mini feladatokat kapsz\n– megoszthatod a tapasztalataid egy elfogadó közösségben\n– a végén Zoom-on zárjuk együtt az élményt\nCélunk: nem detox\, hanem egyensúly.\nEgy fenntarthatóbb\, nyugalmasabb nyár. \nJelentkezz most\, az ingyenes webinárra\, itt a megadott adataiddal! \nonline\, otthonról\, gyerekszoba-mellől is lehet \nA programot Fülöp Hajnival\, Kütyüjogsi digitális trénerrel tartom.
URL:https://fabiandora.hu/event/fenntarthato-vakacio-kepernyovel-vagy-anelkul/
LOCATION:Zoom\, Magyarország
END:VEVENT
BEGIN:VEVENT
DTSTART;TZID=Europe/Budapest:20250423T170000
DTEND;TZID=Europe/Budapest:20250423T183000
DTSTAMP:20260423T195027
CREATED:20250327T180957Z
LAST-MODIFIED:20250327T180957Z
UID:3790-1745427600-1745433000@fabiandora.hu
SUMMARY:Régen minden jobb volt? - gyereknevelés a XXI. században
DESCRIPTION:Általános jelenség\, hogy az idősebbek nosztalgiával gondolnak vissza a fiatalkorukra\, és elborzadva nézik az utánuk következő generációkat: hogyan viselkednek\, milyen értékeket képviselnek – és igen: hogyan nevelnek gyereket. \nAkár bennünk is felmerülhet\, hogy régen nem volt ennyi problémás\, szófogadatlan gyerek. Gyakran mesélitek\, hogy megkérdeztétek a szüleiteket\, mit csináltak\, amikor ti hisztiztetek\, nem aludtatok\, vagy megütöttétek őket\, és ők erre csak annyit tudnak mondani: ilyen nem volt. Így aztán jótanáccsal sem tudnak szolgálni. Jó esetben együttéreznek\, rosszabb esetben pedig az engedékeny\, „liberális” nevelési stílust okolják a nehézségeinkért. \nEzen az előadáson megnézzük\, hogy miben lehetett más a gyereknevelés a minket megelőző generációkban\, valóban könnyebb volt-e\, és hogy mik azok az eszközök\, amik a „mai gyerekekkel” beválnak. \nA Kapcsolódó Nevelés egy olyan gyereknevelés módszer\, ami pontosan jelen korunk kihívásaira válaszul született: hogyan tudunk a gyerekünkkel jól kapcsolódni\, őt jól támogatni\, amikor alig van időnk\, folyton kimerültek vagyunk\, és minimális a támogatásunk. Hogyan tudunk túlzott szigorúság nélkül hatékonyan határt szabni\, és hogyan tudunk magunknak is némi énidőt teremteni. \nAz előadásra szeretettel várlak akkor is\, ha (még) nem vagy szülő\, esetleg nagyszülő\, vagy pedagógus vagy\, és Téged is foglalkoztatnak ezek a kérdések. \nAz előadás ingyenes\, de regisztrációhoz kötött. Interaktív előadásra készülj\, ahol a te tapasztalataidra is kíváncsi vagyok\, és örülök a kérdéseidnek. Ezért kérlek\, hogy lehetőleg végig bekapcsolt kamerával vegyél részt. A csatlakozáshoz szükséges Zoom linket az előadás előtti napon küldöm. \nRólam: Fábián Dóri vagyok\, pszichológus\, Kapcsolódó Nevelés oktató\, 3 gyerek anyukája\, akik jelenleg 8\, 13 és 15 évesek. 10 éve alkalmazom a családomban a Kapcsolódó Nevelés eszközeit\, rengeteg tapasztalatom van a különféle nehéz gyereknevelési helyzetek megoldásában. Bővebben… \nHasonló tartalmakért kövesd a Falu nélkül – gyereknevelés a XXI. században c. podcast-emet YouTube-on és Spotify-on. \nHa pedig mindenképp szeretnél értesülni hasonló programokról\, iratkozz fel a hírlevelemre. \nIde írhatsz: kapcsolat@fabiandora.hu \n \nSzeretettel várlak! <3
URL:https://fabiandora.hu/event/regen-minden-jobb-volt-gyerekneveles-a-xxi-szazadban/
LOCATION:Zoom\, Magyarország
END:VEVENT
BEGIN:VEVENT
DTSTART;TZID=Europe/Budapest:20250321T140000
DTEND;TZID=Europe/Budapest:20250321T153000
DTSTAMP:20260423T195027
CREATED:20250225T210837Z
LAST-MODIFIED:20250315T213803Z
UID:3714-1742565600-1742571000@fabiandora.hu
SUMMARY:5 perc nyugi - hogyan legyen több időm magamra?
DESCRIPTION:Amikor gyerekünk születik\, sejtjük\, hogy mostantól kevesebb időnk lesz magunkra\, mint korábban. Az viszont sokszor váratlanul ér minket\, hogy ennyire kevés\, és hogy ez ennyire nehéz. Nem is mindig engedjük meg még a gondolatát sem magunknak\, hogy magunkra\, pihenésre\, töltődésre is szánjunk időt. Hiszen milyen anya az\, aki baba\, gyerek mellett másra is vágyik\, mint a gyerekével foglalkozni. Vagy milyen apa az\, aki munka után nem kizárólag a családjával szeretne lenni – mondják a belső és/vagy külső hangok. \nPedig magunkkal foglalkozni igenis szükség van\, nemcsak magunk\, hanem a gyerekünk\, a család egésze miatt is. De a jelenlegi élethelyzetünkben gyakran úgy érezzük\, lehetetlen beszuszakolni még ezt is\, amikor annyi teendőnk van\, amikor annyit vagyunk segítség nélkül\, a gyerek meg folyton csak rajtunk lóg és úgy érezzük nem is lehet másra bízni. \nSzerencsére a Kapcsolódó Nevelés eszközei segítenek\, hogy mindez könnyebb legyen. \nSegítenek\, hogy: \n\negy kicsit egyedül eljátsszon\,\nmással is jól érezze magát\,\na tesók ne veszekedjenek folyton\, ne kelljen mindig a sarkukban lenni\, meg igazságot osztani\negyáltalán tudjunk segítséget kérni\, ha arra van szükség.\n\nEzen az ingyenes előadáson ezeket a praktikákat osztom meg Veletek\, amik nekem is már 10 éve segítenek – valószínűleg nem is született volna meg a harmadik gyerekem\, ha nem lett volna már addigra tapasztalatom arról\, hogy a szülőség lehet alapvetően örömteli\, amibe nem kell beleszakadni\, és ahol a saját igényeimnek is van helye. \nA „Jövök” gombra kattintva tudsz regisztrálni\, a megadott e-mail címre küldöm a csatlakozáshoz szükséges Zoom linket a program előtti napon. Ha aznap jelentkeztél\, legkésőbb a kezdés előtti fél órában küldöm. \nHa nem tudsz jönni\, vagy később visszanéznéd\, itt tudod megvásárolni a felvételt. \n \nRólam: Fábián Dóri vagyok\, pszichológus\, Kapcsolódó Nevelés oktató\, 3 gyerek anyukája\, akik jelenleg 8\, 13 és 15 évesek. 10 éve alkalmazom a családomban a Kapcsolódó Nevelés eszközeit\, rengeteg tapasztalatom van a különféle nehéz gyereknevelési helyzetek megoldásában. Bővebben… \nIde írhatsz: kapcsolat@fabiandora.hu \nSzeretettel várlak! <3
URL:https://fabiandora.hu/event/5-perc-nyugi-hogyan-legyen-tobb-idom-magamra/
LOCATION:Zoom\, Magyarország
END:VEVENT
BEGIN:VEVENT
DTSTART;TZID=Europe/Budapest:20250218T170000
DTEND;TZID=Europe/Budapest:20250218T180000
DTSTAMP:20260423T195027
CREATED:20250129T160151Z
LAST-MODIFIED:20250205T075756Z
UID:3579-1739898000-1739901600@fabiandora.hu
SUMMARY:Mi a baj a büntetéssel? - ingyenes online előadás
DESCRIPTION:Amikor a gyerek „rosszalkodik”\, valami nem helyénvalót követ el\, első reakciónk lehet\, hogy ennek kell lenni valamilyen következményének. Hiszen ebből fogja megtanulni\, hogy ilyet nem csinálunk\, ezt nem szabad. \nVan\, hogy csak zsigerből mondunk valamit: ez meg az lesz\, ha ezt nem fejezed be. De van\, hogy bevett büntetéseink vannak adott cselekvésekre\, és tudatosan alkalmazzuk őket. Hazamegyünk\, ha nem hagyod abba a homok szórását. Megütötted a testvéred\, menj a szobádba gondolkodni. Nem készültél a dolgozatra\, egy hétre elvettem a telefonod. \nAztán sokszor azt tapasztaljuk\, hogy nem igazán válik be. Miért? Nem elég szigorú a büntetés? Nem tartottam be következetesen? Nincs eléggé szoros kapcsolatban a következmény a „bűntettel”? És elkezdünk valami más\, valami jobb büntetésen\, észszerűbb következményen gondolkodni. De hiába\, nem találunk semmit\, ami hosszútávon igazán működne\, ami hosszútávon igazán csökkentené a nemkívánt viselkedést. \nA probléma alapvetően a büntetéssel és a következményekkel van. Nem ez a módja annak\, hogy a gyerekünk viselkedését jó irányba tudjuk befolyásolni. Akkor mi? \nEzen az ingyenes előadáson elmesélem\, hogy miért nem válik be a büntetés\, de még a természetes következmény sem igazán\, sőt\, még a jutalmazás sem\, és mit tehetünk helyette. \nRólam: Fábián Dóri vagyok\, pszichológus\, Kapcsolódó Nevelés oktató\, 3 gyerek anyukája\, akik jelenleg 7\, 12 és 14 évesek. 10 éve alkalmazom a családomban a Kapcsolódó Nevelés eszközeit\, rengeteg tapasztalatom van a különféle nehéz gyereknevelési helyzetek megoldásában. Bővebben... \nHa nem tudsz jönni\, de nagyon érdekel a téma\, vagy visszanéznéd később\, itt tudod megvásárolni a felvételt. \nIde írhatsz\, ha kérdésed van: kapcsolat@fabiandora.hu \nSzeretettel várlak! <3 \nRegisztrálni a „Jövök” gombra kattintva tudsz.
URL:https://fabiandora.hu/event/mi-a-baj-a-buntetessel-ingyenes-online-eloadas/
LOCATION:Zoom\, Magyarország
CATEGORIES:ingyenes
ATTACH;FMTTYPE=image/png:https://fabiandora.hu/wp-content/uploads/2025/01/buntetes.png
END:VEVENT
BEGIN:VEVENT
DTSTART;TZID=Europe/Budapest:20250127T100000
DTEND;TZID=Europe/Budapest:20250127T113000
DTSTAMP:20260423T195027
CREATED:20241222T134827Z
LAST-MODIFIED:20250124T102748Z
UID:3318-1737972000-1737977400@fabiandora.hu
SUMMARY:Hogyan éljünk túl szülőként? - ingyenes online előadás
DESCRIPTION:Nem fogad szót\, hisztizik\, nem alszik\, bántja a testvérét? Mindent kipróbáltál\, de semmi nem működik igazán? Belefáradtál az állandó harcba\, hogy semmi nem megy gördülékenyen? \nÜdv a klubban! Amikor gyerekünk születik\, a legtöbben nem vagyunk felkészülve azokra a kihívásokra\, amit a szülőség nehéz munkája jelent. Sem elegendő támogatásunk\, sem megfelelő információnk nincs ahhoz\, hogy a nehéz helyzeteket meg tudjuk oldani. \nA Kapcsolódó Nevelés a mai szülők nehéz gyereknevelési helyzeteire kínál megoldást: egyszerű és hatékony eszközöket\, és ami még fontosabb\, támogatást! Segít megérteni\, hogy hogy működnek a gyerekek\, mi zajlik bennük\, amikor nem együttműködőek\, és mi zajlik bennünk\, amikor nem sikerül úgy reagálni\, ahogy szeretnénk. Konkrét eszközöket ad a kezünkbe\, amiket rendszeresen használva minden egy kicsit könnyebb lesz\, és jobban fogjuk élvezni a gyereknevelést. \nEzen az előadáson megismerkedhetsz a szemlélet alapjaival\, és megtudhatod\, hogy mi az a legfontosabb dolog\, ami segít\, hogy szülőként ne csak túléljünk\, hanem igazán örömteli pillanatokat is megéljünk. A kérdéseidet is fel tudod tenni. \nFábián Dóri vagyok\, pszichológus\, Kapcsolódó Nevelés oktató\, 3 gyerek anyukája\, akik jelenleg 7\, 12 és 14 évesek. 10 éve alkalmazom a családomban a Kapcsolódó Nevelés eszközeit\, rengeteg tapasztalatom van a különféle nehéz gyereknevelési helyzetek megoldásában. Bővebben itt olvashatsz rólam. \nIde írhatsz: kapcsolat@fabiandora.hu \nAz előadás ingyenes\, de regisztrációhoz kötött\, amit lentebb a Jövök! gombra kattintva tudsz megtenni. A csatlakozáshoz szükséges Zoom linket a program előtti napon küldöm a regisztrációkor megadott e-mail címre. \nAz előadásról felvétel készül\, ami 4000 forintba kerül. Megveheted előre is\, ha biztosan tudod\, hogy nem fogsz tudni részt venni\, és még a program után 2 napig\, ha mégsem tudtál jönni\, vagy visszanéznéd. A felvétel megnézése után felmerült kérdéseidre e-mailben válaszolok! \nHa szeretnél értesülni hasonló programokról\, érdemes feliratkozni a hírlevélre. \nSzeretettel várlak! <3
URL:https://fabiandora.hu/event/hogyan-eljunk-tul-szulokent-online-eloadas/
LOCATION:Zoom\, Magyarország
CATEGORIES:ingyenes
ATTACH;FMTTYPE=image/jpeg:https://fabiandora.hu/wp-content/uploads/2024/12/tulelesuj.jpg
END:VEVENT
END:VCALENDAR