BEGIN:VCALENDAR
VERSION:2.0
PRODID:-//Kapcsolódó Nevelés Fábián Dórival - ECPv6.15.16//NONSGML v1.0//EN
CALSCALE:GREGORIAN
METHOD:PUBLISH
X-WR-CALNAME:Kapcsolódó Nevelés Fábián Dórival
X-ORIGINAL-URL:https://fabiandora.hu
X-WR-CALDESC:Események Kapcsolódó Nevelés Fábián Dórival
REFRESH-INTERVAL;VALUE=DURATION:PT1H
X-Robots-Tag:noindex
X-PUBLISHED-TTL:PT1H
BEGIN:VTIMEZONE
TZID:Europe/Budapest
BEGIN:DAYLIGHT
TZOFFSETFROM:+0100
TZOFFSETTO:+0200
TZNAME:CEST
DTSTART:20240331T010000
END:DAYLIGHT
BEGIN:STANDARD
TZOFFSETFROM:+0200
TZOFFSETTO:+0100
TZNAME:CET
DTSTART:20241027T010000
END:STANDARD
BEGIN:DAYLIGHT
TZOFFSETFROM:+0100
TZOFFSETTO:+0200
TZNAME:CEST
DTSTART:20250330T010000
END:DAYLIGHT
BEGIN:STANDARD
TZOFFSETFROM:+0200
TZOFFSETTO:+0100
TZNAME:CET
DTSTART:20251026T010000
END:STANDARD
BEGIN:DAYLIGHT
TZOFFSETFROM:+0100
TZOFFSETTO:+0200
TZNAME:CEST
DTSTART:20260329T010000
END:DAYLIGHT
BEGIN:STANDARD
TZOFFSETFROM:+0200
TZOFFSETTO:+0100
TZNAME:CET
DTSTART:20261025T010000
END:STANDARD
END:VTIMEZONE
BEGIN:VEVENT
DTSTART;TZID=Europe/Budapest:20250813T190000
DTEND;TZID=Europe/Budapest:20250813T200000
DTSTAMP:20260424T070840
CREATED:20250517T112116Z
LAST-MODIFIED:20250804T121552Z
UID:3959-1755111600-1755115200@fabiandora.hu
SUMMARY:Segítség\, nem fogad szót!
DESCRIPTION:Kezdem a rossz hírrel: ha azt szeretnénk\, hogy a gyerekünk mindig szót fogadjon\, balhé nélkül megtegye\, amit kérünk\, arra egyetlen eszközünk van\, ha félelemben tartjuk. Ha folyton attól kell félnie\, hogy elveszíti a szeretetünket\, vagy bántani fogjuk. (És még így sincs arra garancia\, hogy nem fog inkább minden erejével lázadni a túlzott hatalmunk ellen.) \nNyilvánvalóan ezt egyikünk sem szeretné\, különösen ha mi magunk gyerekként megtapasztaltuk ezt a bánásmódot. \nA mai szülőség legnagyobb nehézsége éppen ez: nem akarunk túl szigorúak\, tekintélyelvűek lenni\, de az igencsak kényelmes lenne\, ha a gyerekünk mindig együttműködő lenne. Lehetséges ez a kettő egyszerre? Valószínűleg nem. \nAz viszont igen\, hogy a gyerekünk sokkal többször legyen együttműködő\, és mi sokkal türelmesebbek tudjunk maradni\, amikor nem az. \nEnnek az az egyik kulcsa\, hogy meglássuk a viselkedése mögötti okokat. Nem arról van szó\, hogy 5 évesen még dackorszakos\, 6 évesen meg már kiskamasz\, vagy hogy állandóan a határokat akarná feszegetni\, vagy minket idegesíteni. Ha értjük\, hogy miben van\, amikor ellenáll\, akkor sokkal könnyebben meg tudjuk oldani a nehéz helyzeteket. \nA másik\, hogy a saját reakcióinkat is jobban értsük\, és legyen támogatásunk ahhoz\, hogy változtatni tudjunk rajtuk. Az elhatározás\, hogy holnaptól nem kiabálok\, gyakran kevés\, de kitartó\, tudatos munkával képesek vagyunk a régi berögződéseket átírni. \nA Kapcsolódó Nevelés szemlélete segít megérteni a gyerek\, és a szülők viselkedése\, reakciói mögött rejlő okokat\, és 5 olyan eszközt kínál\, amik rendszerben alkalmazva a családi életet gördülékenyebbé\, és harmonikusabbá\, örömtelibbé teszik. \nEzek közül főleg a Határszabásról fogok beszélni ezen az előadáson. Hogyan lehet a gyerekünket szigorkodás\, fenyegetőzés\, kiabálás nélkül mégis „rávenni” arra\, amit ő nem szeretne\, amihez nincs kedve\, vagy megakadályozni azt\, amit szerintünk nem kellene csinálnia. \nEzt az eszközt az előadás után akár azonnal ki is próbálhatod. Nem biztos\, hogy elsőre menni fog\, de amikor igen\, azonnal érezni fogod a hatását. \nA program ingyenes\, de regisztrációhoz kötött\, amit lentebb a JÖVÖK gombra kattintva tudsz megtenni. \nMiért ingyenes ez az előadás?\n– mert hiszek abban\, hogy minden szülőnek jár a hiteles\, használható gyereknevelési infó és támogatás anyagi helyzettől függetlenül\n– mert így kockázatmentesen bepillanthatsz a Kapcsolódó Nevelés szellemiségébe\, eldöntheted\, hogy ez olyasmi-e\, amibe érdemes még több energiát fektetned\n– ha már többször voltál nálam\, lehetőséged van a tudásodat frissíteni \nA regisztrációkor megadott e-mail címedre 3 levelet fogok írni: \n– egy automatikus visszaigazoló levelet\, amiben találsz egy űrlapot\, ahova előre beírhatod a kérdéseidet\n– egyet az esemény előtti napon\, amiben megtalálod majd a csatlakozáshoz szükséges Zoom linket\n– egyet az esemény utáni napon\, amiben a témához kapcsolódó cikkeket\, programajánlókat találsz\, illetve megvásárolhatod az előadás felvételét\, ha szeretnéd\n– NEM foglak heteken keresztül olyan levelekkel bombázni\, hogy csatlakozz a mentorprogramomhoz – nincs ilyenem 😉\n– de érdemes majd feliratkoznod a hírlevelemre\, a rendszeres olvasóimtól gyakran kapok visszajelzést\, hogy mennyire hasznosak\, inspirálóak a tartalmaim \nAz előadásról felvétel készül\, ami utólag megvásárolható – ez azért nincs ingyen\, mert arra szeretnélek ösztönözni\, hogy gyere el\, vegyél részt élőben. Tedd fel a kérdéseidet\, hogy azonnali megnyugtató válaszokat kapj. Az a tapasztalat\, hogy a felvételek gyakran akkor sem nézzük meg\, ha fizettünk érte. 😉 \nRólam: Fábián Dóri vagyok\, pszichológus\, Kapcsolódó Nevelés oktató\, 3 gyerek anyukája\, akik jelenleg 8\, 13 és 15 évesek. Több\, mint 10 éve alkalmazom a családomban a Kapcsolódó Nevelés eszközeit\, rengeteg tapasztalatom van a különféle nehéz gyereknevelési helyzetek megoldásában. Bővebben… \nIde írhatsz: kapcsolat@fabiandora.hu \nSzeretettel várlak! <3 \n \n 
URL:https://fabiandora.hu/event/segitseg-nem-fogad-szot/
LOCATION:Zoom\, Magyarország
END:VEVENT
END:VCALENDAR