BEGIN:VCALENDAR
VERSION:2.0
PRODID:-//Kapcsolódó Nevelés Fábián Dórival - ECPv6.15.16//NONSGML v1.0//EN
CALSCALE:GREGORIAN
METHOD:PUBLISH
X-WR-CALNAME:Kapcsolódó Nevelés Fábián Dórival
X-ORIGINAL-URL:https://fabiandora.hu
X-WR-CALDESC:Események Kapcsolódó Nevelés Fábián Dórival
REFRESH-INTERVAL;VALUE=DURATION:PT1H
X-Robots-Tag:noindex
X-PUBLISHED-TTL:PT1H
BEGIN:VTIMEZONE
TZID:Europe/Budapest
BEGIN:DAYLIGHT
TZOFFSETFROM:+0100
TZOFFSETTO:+0200
TZNAME:CEST
DTSTART:20240331T010000
END:DAYLIGHT
BEGIN:STANDARD
TZOFFSETFROM:+0200
TZOFFSETTO:+0100
TZNAME:CET
DTSTART:20241027T010000
END:STANDARD
BEGIN:DAYLIGHT
TZOFFSETFROM:+0100
TZOFFSETTO:+0200
TZNAME:CEST
DTSTART:20250330T010000
END:DAYLIGHT
BEGIN:STANDARD
TZOFFSETFROM:+0200
TZOFFSETTO:+0100
TZNAME:CET
DTSTART:20251026T010000
END:STANDARD
BEGIN:DAYLIGHT
TZOFFSETFROM:+0100
TZOFFSETTO:+0200
TZNAME:CEST
DTSTART:20260329T010000
END:DAYLIGHT
BEGIN:STANDARD
TZOFFSETFROM:+0200
TZOFFSETTO:+0100
TZNAME:CET
DTSTART:20261025T010000
END:STANDARD
END:VTIMEZONE
BEGIN:VEVENT
DTSTART;TZID=Europe/Budapest:20250127T100000
DTEND;TZID=Europe/Budapest:20250127T113000
DTSTAMP:20260424T173345
CREATED:20241222T134827Z
LAST-MODIFIED:20250124T102748Z
UID:3318-1737972000-1737977400@fabiandora.hu
SUMMARY:Hogyan éljünk túl szülőként? - ingyenes online előadás
DESCRIPTION:Nem fogad szót\, hisztizik\, nem alszik\, bántja a testvérét? Mindent kipróbáltál\, de semmi nem működik igazán? Belefáradtál az állandó harcba\, hogy semmi nem megy gördülékenyen? \nÜdv a klubban! Amikor gyerekünk születik\, a legtöbben nem vagyunk felkészülve azokra a kihívásokra\, amit a szülőség nehéz munkája jelent. Sem elegendő támogatásunk\, sem megfelelő információnk nincs ahhoz\, hogy a nehéz helyzeteket meg tudjuk oldani. \nA Kapcsolódó Nevelés a mai szülők nehéz gyereknevelési helyzeteire kínál megoldást: egyszerű és hatékony eszközöket\, és ami még fontosabb\, támogatást! Segít megérteni\, hogy hogy működnek a gyerekek\, mi zajlik bennük\, amikor nem együttműködőek\, és mi zajlik bennünk\, amikor nem sikerül úgy reagálni\, ahogy szeretnénk. Konkrét eszközöket ad a kezünkbe\, amiket rendszeresen használva minden egy kicsit könnyebb lesz\, és jobban fogjuk élvezni a gyereknevelést. \nEzen az előadáson megismerkedhetsz a szemlélet alapjaival\, és megtudhatod\, hogy mi az a legfontosabb dolog\, ami segít\, hogy szülőként ne csak túléljünk\, hanem igazán örömteli pillanatokat is megéljünk. A kérdéseidet is fel tudod tenni. \nFábián Dóri vagyok\, pszichológus\, Kapcsolódó Nevelés oktató\, 3 gyerek anyukája\, akik jelenleg 7\, 12 és 14 évesek. 10 éve alkalmazom a családomban a Kapcsolódó Nevelés eszközeit\, rengeteg tapasztalatom van a különféle nehéz gyereknevelési helyzetek megoldásában. Bővebben itt olvashatsz rólam. \nIde írhatsz: kapcsolat@fabiandora.hu \nAz előadás ingyenes\, de regisztrációhoz kötött\, amit lentebb a Jövök! gombra kattintva tudsz megtenni. A csatlakozáshoz szükséges Zoom linket a program előtti napon küldöm a regisztrációkor megadott e-mail címre. \nAz előadásról felvétel készül\, ami 4000 forintba kerül. Megveheted előre is\, ha biztosan tudod\, hogy nem fogsz tudni részt venni\, és még a program után 2 napig\, ha mégsem tudtál jönni\, vagy visszanéznéd. A felvétel megnézése után felmerült kérdéseidre e-mailben válaszolok! \nHa szeretnél értesülni hasonló programokról\, érdemes feliratkozni a hírlevélre. \nSzeretettel várlak! <3
URL:https://fabiandora.hu/event/hogyan-eljunk-tul-szulokent-online-eloadas/
LOCATION:Zoom\, Magyarország
CATEGORIES:ingyenes
ATTACH;FMTTYPE=image/jpeg:https://fabiandora.hu/wp-content/uploads/2024/12/tulelesuj.jpg
END:VEVENT
END:VCALENDAR